BEGIN:VCALENDAR
VERSION:2.0
PRODID:-//ChamberMaster//Event Calendar 2.0//EN
METHOD:PUBLISH
X-PUBLISHED-TTL:P3D
REFRESH-INTERVAL:P3D
CALSCALE:GREGORIAN
BEGIN:VEVENT
DTSTART:20190716T163000Z
DTEND:20190716T170000Z
X-MICROSOFT-CDO-ALLDAYEVENT:FALSE
SUMMARY:Ribbon Cutting for CBD American Shaman Boerne Hill Country
DESCRIPTION:Join us for a ribbon cutting celebrating the grand opening of CBD American Shaman Boerne Hill Country!\n\n\n\nVisit CBD American Shaman Boerne Hill Country to find all of your hemp-based edibles\, tinctures\, ointments and more. Their store uses only the highest-quality cannabidiol ingredients around. These ingredients are 100% organic\, natural\, gluten-free\, and non-genetically modified.
X-ALT-DESC;FMTTYPE=text/html:Join us for a ribbon cutting celebrating the grand opening of CBD American Shaman Boerne Hill Country!<br />\n<br />\nVisit CBD American Shaman Boerne Hill Country to find all of your hemp-based edibles\, tinctures\, ointments and more. Their store uses only the highest-quality cannabidiol ingredients around. These ingredients are 100% organic\, natural\, gluten-free\, and non-genetically modified.
LOCATION:31007 IH-10 W\, Ste. 108 Boerne\, TX 78006
UID:e.187.16440
SEQUENCE:3
DTSTAMP:20260419T143912Z
URL:https://business.boerne.org/events/details/ribbon-cutting-for-cbd-american-shaman-boerne-hill-country-16440
END:VEVENT

END:VCALENDAR
