BEGIN:VCALENDAR
VERSION:2.0
PRODID:-//ChamberMaster//Event Calendar 2.0//EN
METHOD:PUBLISH
X-PUBLISHED-TTL:P3D
REFRESH-INTERVAL:P3D
CALSCALE:GREGORIAN
BEGIN:VEVENT
DTSTART:20170725T163000Z
DTEND:20170725T170000Z
X-MICROSOFT-CDO-ALLDAYEVENT:FALSE
SUMMARY:Ribbon Cutting for Catrina's Interiors
DESCRIPTION:Come join us for a Ribbon Cutting Ceremony for Catrina's Interiors. (link)
X-ALT-DESC;FMTTYPE=text/html:Come join us for a Ribbon Cutting Ceremony for Catrina&#39\;s Interiors. (<a href="http://www.catrinasinteriors.com/">link</a>)
LOCATION:Catrina's Interiors (map) 32840 IH- 10 West Boerne\, TX 78006
UID:e.187.11709
SEQUENCE:3
DTSTAMP:20260423T005759Z
URL:https://business.boerne.org/events/details/ribbon-cutting-for-catrina-s-interiors-11709
END:VEVENT

END:VCALENDAR
