BEGIN:VCALENDAR
VERSION:2.0
PRODID:-//ChamberMaster//Event Calendar 2.0//EN
METHOD:PUBLISH
X-PUBLISHED-TTL:P3D
REFRESH-INTERVAL:P3D
CALSCALE:GREGORIAN
BEGIN:VEVENT
DTSTART:20240917T163000Z
DTEND:20240917T170000Z
X-MICROSOFT-CDO-ALLDAYEVENT:FALSE
SUMMARY:Ribbon Cutting for Bumble Bee Blinds of Northwest San Antonio
DESCRIPTION:Join us for a ribbon cutting celebrating Bumble Bee Blinds of Northwest San Antonio!\n\n\n\nBumble Bee Blinds is your one stop shop for custom window treatments. They offer an expansive selection of shades\, blinds\, shutters\, curtains\, and more from leading brands. They make the process of finding the perfect window treatments for your home or business easy\, with free in-home design consultations\, professional installation\, and worry free with their industry leading limited lifetime warranty.  \n\n\n\nWEBSITE: Custom Window Treatments in Northwest San Antonio\, TX (bumblebeeblinds.com)\n\nPHONE: (726) 227-6130\n\nOFFICE LOCATION: 5413 Bandera Rd.\, Suite 405\, San Antonio\, TX 78238\n\n\n\n**This ribbon cutting will take place at The Greater Boerne Chamber of Commerce!
X-ALT-DESC;FMTTYPE=text/html:<span style="color:#000000\;"><font face="arial"><span style="font-size: 14px\;">Join us for a ribbon cutting celebrating Bumble Bee Blinds of Northwest San Antonio!</span></font></span><br />\n<br />\n<span style="font-size:14px\;"><span style="font-family:arial\;"><span style="color:black\;">Bumble Bee Blinds is your one stop shop for custom window treatments. They offer an expansive selection of shades\, blinds\, shutters\, curtains\, and more from leading brands. They make the process of finding the perfect window treatments for your home or business easy\, with free in-home design consultations\, professional installation\, and worry free with their industry leading limited lifetime warranty.&nbsp\;&nbsp\;</span></span></span><br />\n<br />\n<span style="color:#000000\;"><span style="font-size:14px\;"><span style="font-family:arial\;">WEBSITE:&nbsp\;</span></span></span><a href="https://www.bumblebeeblinds.com/northwest-san-antonio-tx/"><span style="color:#000000\;">Custom Window Treatments in Northwest San Antonio\, TX (bumblebeeblinds.com)</span></a><br />\n<span style="color:#000000\;"><span style="font-size:14px\;"><span style="font-family:arial\;">PHONE: (726) 227-6130<br />\nOFFICE LOCATION: 5413 Bandera Rd.\, Suite 405\, San Antonio\, TX 78238<br />\n<br />\n**This ribbon cutting will take place at The Greater Boerne Chamber of Commerce!</span></span></span>
LOCATION:The Greater Boerne Chamber of Commerce 121 S Main St Boerne\, TX. 78006
UID:e.187.28621
SEQUENCE:3
DTSTAMP:20260419T181613Z
URL:https://business.boerne.org/events/details/ribbon-cutting-for-bumble-bee-blinds-of-northwest-san-antonio-28621
END:VEVENT

END:VCALENDAR
