BEGIN:VCALENDAR
VERSION:2.0
PRODID:-//ChamberMaster//Event Calendar 2.0//EN
METHOD:PUBLISH
X-PUBLISHED-TTL:P3D
REFRESH-INTERVAL:P3D
CALSCALE:GREGORIAN
BEGIN:VEVENT
DTSTART:20170927T210000Z
DTEND:20170927T211500Z
X-MICROSOFT-CDO-ALLDAYEVENT:FALSE
SUMMARY:RIbbon Cutting for Brookdale Medical Center Kingsley
DESCRIPTION:Please join us for a ribbon cutting for Brookdale Medical Center Kingsley.\n\nThis is for a Grand Re-Opening  and help them solve a Murder & Mystery.\n\n\n\nIf coming\, please be sure to RSVP to Erika Franklin at (210) 319-9007 or\n\nemail erika.franklin@brookdale.com
X-ALT-DESC;FMTTYPE=text/html:Please join us for a ribbon cutting for <a href="http://www.brookdale.com">Brookdale Medical Center Kingsley</a>.<br />\nThis is for a Grand Re-Opening&nbsp\; and help them solve a Murder &amp\; Mystery.<br />\n<br />\nIf coming\, please be sure to RSVP to Erika Franklin at (210) 319-9007 or<br />\nemail erika.franklin@brookdale.com
LOCATION:9000 Floyd Curl Drive San Antonio\, TX 78240 (map)
UID:e.187.11997
SEQUENCE:3
DTSTAMP:20260422T230739Z
URL:https://business.boerne.org/events/details/ribbon-cutting-for-brookdale-medical-center-kingsley-11997
END:VEVENT

END:VCALENDAR
