BEGIN:VCALENDAR
VERSION:2.0
PRODID:-//ChamberMaster//Event Calendar 2.0//EN
METHOD:PUBLISH
X-PUBLISHED-TTL:P3D
REFRESH-INTERVAL:P3D
CALSCALE:GREGORIAN
BEGIN:VEVENT
DTSTART:20240910T183000Z
DTEND:20240910T190000Z
X-MICROSOFT-CDO-ALLDAYEVENT:FALSE
SUMMARY:Ribbon Cutting for Bones and Bubbles Dog Spa
DESCRIPTION:Join us for a ribbon cutting celebrating Bones and Bubbles Dog Spa's Grand Opening!\n\n\n\nBones and Bubbles Dog Spa provides an upscale and clean experience for you and your pup! They offer spa services for your dog\, whether you want to do it yourself or have a professional take on the task! They have a self wash spa\, monthly memberships\, spa day packages\, full grooming services\, and more! Bones and Bubbles Dog Spa was born from the realization that our area is in desperate need of more groomers with a clean and luxurious spot to drop in for a quick doggie bath!\n\n\n\nWEBSITE: Home - www.bonesandbubbles.com - Bones and Bubbles Dog Spa\n\nPHONE: (210) 257-8552\n\nLOCATION: 27650 IH 10\, Boerne\, TX 78015
X-ALT-DESC;FMTTYPE=text/html:<span style="color:#000000\;"><font face="arial"><span style="font-size: 14px\;">Join us for a ribbon cutting celebrating Bones and Bubbles Dog Spa&#39\;s Grand Opening!</span></font><br />\n<br />\nBones and Bubbles Dog Spa provides an upscale and clean experience for you and your pup! They offer spa services for your dog\, whether you want to do it yourself or have a professional take on the task! They have a self wash spa\, monthly memberships\, spa day packages\, full grooming services\, and more! Bones and Bubbles Dog Spa was born from the realization that our area is in desperate need of more groomers with a clean and luxurious spot to drop in for a quick doggie bath!<br />\n<br />\n<span style="font-size:14px\;"><span style="font-family:arial\;">WEBSITE:&nbsp\;</span></span></span><a href="https://bonesandbubbles.com/"><span style="color:#000000\;">Home - www.bonesandbubbles.com - Bones and Bubbles Dog Spa</span></a><br />\n<span style="color:#000000\;"><span style="font-size:14px\;"><span style="font-family:arial\;">PHONE: (210) 257-8552<br />\nLOCATION: 27650 IH 10\, Boerne\, TX 78015</span></span></span><br />\n<br />\n&nbsp\;
LOCATION:Bones and Bubbles Dog Spa 27650 IH 10\, Suite 105 Boerne\, TX 78015
UID:e.187.24633
SEQUENCE:3
DTSTAMP:20260419T181040Z
URL:https://business.boerne.org/events/details/ribbon-cutting-for-bones-and-bubbles-dog-spa-24633
END:VEVENT

END:VCALENDAR
