BEGIN:VCALENDAR
VERSION:2.0
PRODID:-//ChamberMaster//Event Calendar 2.0//EN
METHOD:PUBLISH
X-PUBLISHED-TTL:P3D
REFRESH-INTERVAL:P3D
CALSCALE:GREGORIAN
BEGIN:VEVENT
DTSTART:20220429T183000Z
DTEND:20220429T190000Z
X-MICROSOFT-CDO-ALLDAYEVENT:FALSE
SUMMARY:Ribbon Cutting for Boerne Vision Center at Fair Oaks
DESCRIPTION:Join us for a ribbon cutting celebrating Boerne Vision Center at Fair Oaks!\n\n\n\nBoerne Vision Center is celebrating their 1 year anniversary in Fair Oaks! They decided to expand locations after being the preferred provider of personalized vision exams in Boerne since 2012. Through integrity and professionalism\, they provide caring\, comprehensive eye and vision health services\, a wide variety of quality products and an experience that will surpass your expectations. From your eye exam\, to purchasing glasses and contacts\, and everything in between\, Boerne Vision Center is here to guide you through the process with ease and comfortability! To schedule your next appointment\, or to learn more about what they offer\, check out their website: https://boernevisioncenter.com/\n\n\n\n \n\nThis will be in conjunction with their 1 year anniversary party! Raffle prizes\, discounts and more!
X-ALT-DESC;FMTTYPE=text/html:<p><span style="font-size:14px\;"><span style="font-family:arial\;">Join us for a ribbon cutting celebrating Boerne Vision Center at Fair Oaks!<br />\n<br />\nBoerne Vision Center is celebrating their 1 year anniversary in Fair Oaks! They decided to expand locations after being the preferred provider of personalized vision exams in Boerne since 2012. Through integrity and professionalism\, they provide caring\, comprehensive eye and vision health services\, a wide variety of quality products and an experience that will surpass your expectations. From your eye exam\, to purchasing glasses and contacts\, and everything in between\, Boerne Vision Center is here to guide you through the process with ease and comfortability! To schedule your next appointment\, or to learn more about what they offer\, check out their website:&nbsp\;https://boernevisioncenter.com/</span></span><br />\n<br />\n&nbsp\;</p>\n\n<p><span style="font-size:14px\;"><span style="font-family:arial\;">This will be in conjunction with their 1 year anniversary party! Raffle prizes\, discounts and more!</span></span></p>\n
LOCATION:Boerne Vision Center at Fair Oaks 27511 IH 10 W\, STE 401 Boerne\, TX. 78006
UID:e.187.19836
SEQUENCE:3
DTSTAMP:20260424T013632Z
URL:https://business.boerne.org/events/details/ribbon-cutting-for-boerne-vision-center-at-fair-oaks-19836
END:VEVENT

END:VCALENDAR
