BEGIN:VCALENDAR
VERSION:2.0
PRODID:-//ChamberMaster//Event Calendar 2.0//EN
METHOD:PUBLISH
X-PUBLISHED-TTL:P3D
REFRESH-INTERVAL:P3D
CALSCALE:GREGORIAN
BEGIN:VEVENT
DTSTART:20180615T220000Z
DTEND:20180615T223000Z
X-MICROSOFT-CDO-ALLDAYEVENT:FALSE
SUMMARY:Ribbon Cutting for Boerne Vision Center
DESCRIPTION:Come join us for a Ribbon Cutting Ceremony for Boerne Vision. (link)
X-ALT-DESC;FMTTYPE=text/html:<span style="font-size:12px\;"><span style="font-family:arial\;">Come join us for a Ribbon Cutting Ceremony for Boerne Vision. (<a href="https://boernevisioncenter.com/">link</a>)</span></span>
LOCATION:Boerne Vision Center (map) 124 E. Bandera Rd.\, Ste. 403 Hill Country Plaza Boerne\, TX 78006 (830) 331-8745 (830) 331-8749 (fax)
UID:e.187.13661
SEQUENCE:3
DTSTAMP:20260420T074459Z
URL:https://business.boerne.org/events/details/ribbon-cutting-for-boerne-vision-center-13661
END:VEVENT

END:VCALENDAR
