BEGIN:VCALENDAR
VERSION:2.0
PRODID:-//ChamberMaster//Event Calendar 2.0//EN
METHOD:PUBLISH
X-PUBLISHED-TTL:P3D
REFRESH-INTERVAL:P3D
CALSCALE:GREGORIAN
BEGIN:VEVENT
DTSTART:20190919T163000Z
DTEND:20190919T170000Z
X-MICROSOFT-CDO-ALLDAYEVENT:FALSE
SUMMARY:Ribbon Cutting for Boerne Travel
DESCRIPTION:Join us for a ribbon cutting celebrating Boerne Travel!\n\n\n\nBoerne Travel is a full service travel agency located in the heart of downtown Boerne. They specialize in tropical vacations and custom European trips.
X-ALT-DESC;FMTTYPE=text/html:Join us for a ribbon cutting celebrating Boerne Travel!<br />\n<br />\nBoerne Travel is a full service travel agency located in the heart of downtown Boerne. They specialize in tropical vacations and custom European trips.
LOCATION:624 N. Main St.\, Ste. 203 Boerne\, TX 78006
UID:e.187.16771
SEQUENCE:3
DTSTAMP:20260419T175243Z
URL:https://business.boerne.org/events/details/ribbon-cutting-for-boerne-travel-16771
END:VEVENT

END:VCALENDAR
