BEGIN:VCALENDAR
VERSION:2.0
PRODID:-//ChamberMaster//Event Calendar 2.0//EN
METHOD:PUBLISH
X-PUBLISHED-TTL:P3D
REFRESH-INTERVAL:P3D
CALSCALE:GREGORIAN
BEGIN:VEVENT
DTSTART:20181023T183000Z
DTEND:20181023T190000Z
X-MICROSOFT-CDO-ALLDAYEVENT:FALSE
SUMMARY:Ribbon Cutting for Boerne Performance and Coaching
DESCRIPTION:Join us for a Ribbon Cutting Ceremony for Boerne Performance and Coaching!
X-ALT-DESC;FMTTYPE=text/html:Join us for a Ribbon Cutting Ceremony for Boerne Performance and Coaching!
LOCATION:206 S. Saunders St.\, Ste. 104 Boerne\, TX 78006
UID:e.187.15106
SEQUENCE:3
DTSTAMP:20260420T024712Z
URL:https://business.boerne.org/events/details/ribbon-cutting-for-boerne-performance-and-coaching-15106
END:VEVENT

END:VCALENDAR
