BEGIN:VCALENDAR
VERSION:2.0
PRODID:-//ChamberMaster//Event Calendar 2.0//EN
METHOD:PUBLISH
X-PUBLISHED-TTL:P3D
REFRESH-INTERVAL:P3D
CALSCALE:GREGORIAN
BEGIN:VEVENT
DTSTART:20191024T183000Z
DTEND:20191024T190000Z
X-MICROSOFT-CDO-ALLDAYEVENT:FALSE
SUMMARY:Ribbon Cutting for Boerne Motorcycle Company
DESCRIPTION:Join us for a ribbon cutting celebrating Boerne Motorcycle Company! \n\n\n\nBoerne Motorcycle Company offers well over 50 years combined experience. They are Harley Davidson certified\, and repair anything on 2 or 3 wheels.
X-ALT-DESC;FMTTYPE=text/html:Join us for a ribbon cutting celebrating Boerne Motorcycle Company!&nbsp\;<br />\n<br />\nBoerne Motorcycle Company offers well over 50 years combined experience. They are Harley Davidson certified\, and repair anything on 2 or 3 wheels.
LOCATION:941 N. Main St. Boerne\, TX 78006
UID:e.187.16746
SEQUENCE:3
DTSTAMP:20260419T191823Z
URL:https://business.boerne.org/events/details/ribbon-cutting-for-boerne-motorcycle-company-16746
END:VEVENT

END:VCALENDAR
