BEGIN:VCALENDAR
VERSION:2.0
PRODID:-//ChamberMaster//Event Calendar 2.0//EN
METHOD:PUBLISH
X-PUBLISHED-TTL:P3D
REFRESH-INTERVAL:P3D
CALSCALE:GREGORIAN
BEGIN:VEVENT
DTSTART:20230119T173000Z
DTEND:20230119T180000Z
X-MICROSOFT-CDO-ALLDAYEVENT:FALSE
SUMMARY:Ribbon Cutting for Blingle! Premier Lighting
DESCRIPTION:Join us for a ribbon cutting celebrating Blingle! Premier Lighting!\n\n\n\nBlingle! Premier Lighting is the Texas Hill Country's premier outdoor lighting company! With simple\, innovative technology\, world class service and professional grade lighting products\, Blingle will be your first choice! They offer lighting for holidays\, events\, landscaping and more\, along with free design consultations. To learn more\, give them a call at (830) 445-2074 or click here to check out their website.
X-ALT-DESC;FMTTYPE=text/html:<font face="arial"><span style="font-size: 14px\;">Join us for a ribbon cutting celebrating Blingle! Premier Lighting!</span></font><br />\n<br />\n<font face="arial"><span style="font-size: 14px\;">Blingle! Premier Lighting is the Texas Hill Country&#39\;s premier outdoor lighting company! With simple\, innovative technology\, world&nbsp\;class service and professional grade lighting products\, Blingle will be your first choice! They offer lighting for holidays\, events\, landscaping and more\, along with free design consultations. To learn more\, give them a call at (830) 445-2074 or <a href="https://blingle.com/hill-country-texas">click here</a> to check out their website.</span></font>
LOCATION:Blingle! Premier Lighting 41205 IH-10 West\, Bldg D Boerne\, TX. 78006
UID:e.187.20684
SEQUENCE:3
DTSTAMP:20260423T071449Z
URL:https://business.boerne.org/events/details/ribbon-cutting-for-blingle-premier-lighting-20684
END:VEVENT

END:VCALENDAR
