BEGIN:VCALENDAR
VERSION:2.0
PRODID:-//ChamberMaster//Event Calendar 2.0//EN
METHOD:PUBLISH
X-PUBLISHED-TTL:P3D
REFRESH-INTERVAL:P3D
CALSCALE:GREGORIAN
BEGIN:VEVENT
DTSTART:20190719T163000Z
DTEND:20190719T170000Z
X-MICROSOFT-CDO-ALLDAYEVENT:FALSE
SUMMARY:Ribbon Cutting for Blinded by Delights' New Location
DESCRIPTION:Join us for a ribbon cutting ceremony celebrating Blinded by Delight's new location in Boerne!\n\n\n\nBlinded by Delight takes pride in finding the right product at the right price while providing exceptional customer service. Their professional window covering specialists' primary goal is to educate their clients on all possible products and price points available.
X-ALT-DESC;FMTTYPE=text/html:Join us for a ribbon cutting ceremony celebrating Blinded by Delight&#39\;s new location in Boerne!<br />\n<br />\nBlinded by Delight takes pride in&nbsp\;finding the right product at the right price while providing exceptional customer service. Their professional window covering specialists&#39\; primary goal is to educate their clients on all possible products and price points available.
LOCATION:1100 N. Main St.\, Ste. 105 Boerne\, TX 78006
UID:e.187.16439
SEQUENCE:3
DTSTAMP:20260419T161126Z
URL:https://business.boerne.org/events/details/ribbon-cutting-for-blinded-by-delights-new-location-16439
END:VEVENT

END:VCALENDAR
