BEGIN:VCALENDAR
VERSION:2.0
PRODID:-//ChamberMaster//Event Calendar 2.0//EN
METHOD:PUBLISH
X-PUBLISHED-TTL:P3D
REFRESH-INTERVAL:P3D
CALSCALE:GREGORIAN
BEGIN:VEVENT
DTSTART:20180220T173000Z
DTEND:20180220T180000Z
X-MICROSOFT-CDO-ALLDAYEVENT:FALSE
SUMMARY:Ribbon Cutting for Bella Sera Italian Restaurant of Boerne
DESCRIPTION:Come join us for the ribbon cutting at Bella Sera Italian Restaurant of Boerne. (link)
X-ALT-DESC;FMTTYPE=text/html:Come join us for the ribbon cutting at Bella Sera Italian Restaurant of Boerne. (<a href="http://www.bellaseratexas.com/">link</a>)&nbsp\;
LOCATION:812 N. Main Street\, Boerne\, TX 78006 (map)
UID:e.187.13501
SEQUENCE:3
DTSTAMP:20260422T135101Z
URL:https://business.boerne.org/events/details/ribbon-cutting-for-bella-sera-italian-restaurant-of-boerne-13501
END:VEVENT

END:VCALENDAR
