BEGIN:VCALENDAR
VERSION:2.0
PRODID:-//ChamberMaster//Event Calendar 2.0//EN
METHOD:PUBLISH
X-PUBLISHED-TTL:P3D
REFRESH-INTERVAL:P3D
CALSCALE:GREGORIAN
BEGIN:VEVENT
DTSTART:20191212T173000Z
DTEND:20191212T180000Z
X-MICROSOFT-CDO-ALLDAYEVENT:FALSE
SUMMARY:Ribbon Cutting for BBVA Bank
DESCRIPTION:Join us for a ribbon cutting celebrating BBVA Bank!\n\n\n\nBBVA Bank is a leading U.S. banking franchise with more than 680 branch locations throughout the region\, specializing in a wide variety of Personal Banking\, Commercial Banking\, and Wealth Management services.
X-ALT-DESC;FMTTYPE=text/html:Join us for a ribbon cutting celebrating BBVA Bank!<br />\n<br />\nBBVA Bank is a leading U.S. banking franchise with more than 680 branch locations throughout the region\, specializing in a wide variety of Personal Banking\, Commercial Banking\, and Wealth Management services.
LOCATION:1410 S. Main St. Boerne\, TX 78006
UID:e.187.17122
SEQUENCE:3
DTSTAMP:20260425T215001Z
URL:https://business.boerne.org/events/details/ribbon-cutting-for-bbva-bank-17122
END:VEVENT

END:VCALENDAR
