BEGIN:VCALENDAR
VERSION:2.0
PRODID:-//ChamberMaster//Event Calendar 2.0//EN
METHOD:PUBLISH
X-PUBLISHED-TTL:P3D
REFRESH-INTERVAL:P3D
CALSCALE:GREGORIAN
BEGIN:VEVENT
DTSTART:20240905T163000Z
DTEND:20240905T170000Z
X-MICROSOFT-CDO-ALLDAYEVENT:FALSE
SUMMARY:Ribbon Cutting for August House Fine Jewelry Boutique
DESCRIPTION:Join us for a ribbon cutting celebrating August House Fine Jewelry Boutique!\n\n\n\nExperience luxury with a twist! August House offers exquisite fine jewelry\, blending timeless elegance with modern design. Their boutique showcases unique\, handcrafted pieces perfect for any occasion. Discover luxury that accommodates every budget!\n\n\n\nWEBSITE: Facebook | August House Fine Jewelry Boutique\n\nPHONE: (210) 623-0702\n\nLOCATION: 23718 IH 10 West\, Suite 101\, San Antonio\, TX 78257
X-ALT-DESC;FMTTYPE=text/html:<span style="color:#000000\;"><font face="arial"><span style="font-size: 14px\;">Join us for a ribbon cutting celebrating August House Fine Jewelry Boutique!<br />\n<br />\nExperience luxury with a twist! August House offers exquisite fine jewelry\, blending timeless elegance with modern design. Their boutique showcases unique\, handcrafted pieces perfect for any occasion. Discover luxury that accommodates every budget!</span></font></span><br />\n<br />\n<span style="font-size:14px\;"><span style="font-family:arial\;"><span style="color:#000000\;">WEBSITE: </span><u><a href="https://www.facebook.com/Augusthousejewelry"><span style="color:#000000\;">Facebook | August House Fine Jewelry Boutique</span></a></u></span></span><br />\n<span style="color:#000000\;"><span style="font-size:14px\;"><span style="font-family:arial\;">PHONE:&nbsp\;</span></span>(210) 623-0702<br />\nLOCATION: 23718 IH 10 West\, Suite 101\, San Antonio\, TX 78257</span>
LOCATION:August House Fine Jewelry Boutique 23718 IH 10 West\, Suite 101 San Antonio\, TX 78257
UID:e.187.28529
SEQUENCE:3
DTSTAMP:20260419T181615Z
URL:https://business.boerne.org/events/details/ribbon-cutting-for-august-house-fine-jewelry-boutique-28529
END:VEVENT

END:VCALENDAR
