BEGIN:VCALENDAR
VERSION:2.0
PRODID:-//ChamberMaster//Event Calendar 2.0//EN
METHOD:PUBLISH
X-PUBLISHED-TTL:P3D
REFRESH-INTERVAL:P3D
CALSCALE:GREGORIAN
BEGIN:VEVENT
DTSTART:20220519T183000Z
DTEND:20220519T190000Z
X-MICROSOFT-CDO-ALLDAYEVENT:FALSE
SUMMARY:Ribbon Cutting for Anytime Fitness Fair Oaks Ranch
DESCRIPTION:Join us for a ribbon cutting celebrating Anytime Fitness Fair Oaks Ranch! \n\n\n\nAt Anytime Fitness Fair Oaks Ranch\, the support is real\, and it starts the moment you walk through the doors! Anytime coaches don't have one plan that fits everyone\, they develop a plan that fits you - a total fitness experience designed around your abilities\, your body and your goals. Your plan will contain a 360 approach to your health and will cover important areas other gyms simply can't. Anytime's goal is to help you tackle anything that stands in the way of a healthier you\, together. Call 210-687-1200 to get started on feeling motivated\, stronger and confident again! Anytime Fitness is located at 9091 Fair Oaks Pkwy. Fair Oaks Ranch\, TX 78015.
X-ALT-DESC;FMTTYPE=text/html:Join us for a ribbon cutting celebrating Anytime Fitness Fair Oaks Ranch!&nbsp\;<br />\n<br />\nAt Anytime Fitness Fair Oaks Ranch\, the support is real\, and it starts the moment you walk through the doors! Anytime coaches don&#39\;t have one plan that fits everyone\, they develop a plan that fits you - a total fitness experience designed around your abilities\, your body and your goals. Your plan will contain a 360 approach to your health and will cover important areas other gyms simply can&#39\;t. Anytime&#39\;s goal is to help you tackle anything that stands in the way of a healthier you\, together. Call 210-687-1200 to get started on feeling motivated\, stronger and confident again! Anytime Fitness is located at 9091 Fair Oaks Pkwy. Fair Oaks Ranch\, TX 78015.&nbsp\;
LOCATION:Anytime Fitness Fair Oaks Ranch 9091 Fair Oaks Pkwy Fair Oaks Ranch\, TX 78015
UID:e.187.19745
SEQUENCE:3
DTSTAMP:20260423T203223Z
URL:https://business.boerne.org/events/details/ribbon-cutting-for-anytime-fitness-fair-oaks-ranch-19745
END:VEVENT

END:VCALENDAR
