BEGIN:VCALENDAR
VERSION:2.0
PRODID:-//ChamberMaster//Event Calendar 2.0//EN
METHOD:PUBLISH
X-PUBLISHED-TTL:P3D
REFRESH-INTERVAL:P3D
CALSCALE:GREGORIAN
BEGIN:VEVENT
DTSTART:20181108T173000Z
DTEND:20181108T180000Z
X-MICROSOFT-CDO-ALLDAYEVENT:FALSE
SUMMARY:Ribbon Cutting for Alamo Hospice
DESCRIPTION:Join us for a Ribbon Cutting Ceremony celebrating Alamo Hospice during National Hospice and Pallative Month!
X-ALT-DESC;FMTTYPE=text/html:Join us for a Ribbon Cutting Ceremony celebrating Alamo Hospice during National Hospice and Pallative Month!
LOCATION:1595 S. Main St.\, Ste.101 Boerne\, TX 78006
UID:e.187.13515
SEQUENCE:3
DTSTAMP:20260420T001511Z
URL:https://business.boerne.org/events/details/ribbon-cutting-for-alamo-hospice-13515
END:VEVENT

END:VCALENDAR
