BEGIN:VCALENDAR
VERSION:2.0
PRODID:-//ChamberMaster//Event Calendar 2.0//EN
METHOD:PUBLISH
X-PUBLISHED-TTL:P3D
REFRESH-INTERVAL:P3D
CALSCALE:GREGORIAN
BEGIN:VEVENT
DTSTART:20240905T183000Z
DTEND:20240905T190000Z
X-MICROSOFT-CDO-ALLDAYEVENT:FALSE
SUMMARY:Ribbon Cutting for Agape Advocates
DESCRIPTION:Join us for a ribbon cutting celebrating Agape Advocates!\n\n\n\nAgape Advocates is on a mission to provide compassionate RN medical care management and advocacy for you or your loved ones. Navigating the healthcare system can be overwhelming\, but with the help and guidance of their knowledgeable Registered Nurse Care managers\, it doesn't have to be. Their services include:\n\n	Healthcare Coordination - coordinating between the client\, family\, and medical/healthcare providers\n	Healthcare Navigation - accompanying clients to vital appointments and assisting in explanation of treatment plans\n	Healthcare Advocacy - provides overall support and guidance to clients and families\n\n\n\n\n\nWEBSITE: Agape Advocates | www.agapeadvocates.com\n\nPHONE: (210) 630-0584
X-ALT-DESC;FMTTYPE=text/html:<span style="color:#000000\;"><span style="font-size:14px\;"><span style="font-family:arial\;">Join us for a ribbon cutting celebrating Agape Advocates!</span></span><br />\n<br />\nAgape Advocates is on a mission to provide compassionate RN medical care management and advocacy for you or your loved ones. Navigating the healthcare system can be overwhelming\, but with the help and guidance of their knowledgeable Registered Nurse Care managers\, it doesn&#39\;t have to be. Their services include:</span>\n<ul>\n	<li><span style="color:#000000\;">Healthcare Coordination - coordinating between the client\, family\, and medical/healthcare providers</span></li>\n	<li><span style="color:#000000\;">Healthcare Navigation - accompanying clients to vital appointments and assisting in explanation of treatment plans</span></li>\n	<li><span style="color:#000000\;">Healthcare Advocacy - provides overall support and guidance to clients and families</span></li>\n</ul>\n<br />\n<br />\n<span style="color:#000000\;"><span style="font-size:14px\;"><span style="font-family:arial\;">WEBSITE: </span></span></span><a href="https://www.agapeadvocates.com/"><span style="color:#000000\;">Agape Advocates | www.agapeadvocates.com</span></a><br />\n<span style="color:#000000\;"><span style="font-size:14px\;"><span style="font-family:arial\;">PHONE: (210) 630-0584</span></span></span><br />\n&nbsp\;
LOCATION:The Greater Boerne Chamber of Commerce 121 S Main St Boerne\, TX. 78006
UID:e.187.28545
SEQUENCE:3
DTSTAMP:20260419T181323Z
URL:https://business.boerne.org/events/details/ribbon-cutting-for-agape-advocates-28545
END:VEVENT

END:VCALENDAR
