BEGIN:VCALENDAR
VERSION:2.0
PRODID:-//ChamberMaster//Event Calendar 2.0//EN
METHOD:PUBLISH
X-PUBLISHED-TTL:P3D
REFRESH-INTERVAL:P3D
CALSCALE:GREGORIAN
BEGIN:VEVENT
DTSTART:20191017T183000Z
DTEND:20191017T190000Z
X-MICROSOFT-CDO-ALLDAYEVENT:FALSE
SUMMARY:Ribbon Cutting for Advanced Spinal Pain Management Center for Wellness & Regenerative Medicine
DESCRIPTION:Join us for a ribbon cutting celebrating Advanced Spinal Pain Management Center for Wellness & Regenerative Medicine!\n\n\n\nAdvanced Spinal Pain Management provides comprehensive pain management treatment to minimize or eliminate most pain. Dr. Aldon Williams and staff are there to help you. Their number one goal for patients is to simply return to a normal lifestyle\, to live a life as free from pain as possible.
X-ALT-DESC;FMTTYPE=text/html:Join us for a ribbon cutting celebrating Advanced Spinal Pain Management Center for Wellness &amp\; Regenerative Medicine!<br />\n<br />\nAdvanced Spinal Pain Management provides comprehensive pain management treatment to minimize or eliminate most pain. Dr. Aldon Williams and staff are there to help you. Their number one goal for patients is to simply return to a normal lifestyle\, to live a life as free from pain as possible.
LOCATION:916 River Rd.\, Ste. 100 Boerne\, TX 78006
UID:e.187.16774
SEQUENCE:3
DTSTAMP:20260419T192116Z
URL:https://business.boerne.org/events/details/ribbon-cutting-for-advanced-spinal-pain-management-center-for-wellness-regenerative-medicine-16774
END:VEVENT

END:VCALENDAR
