BEGIN:VCALENDAR
VERSION:2.0
PRODID:-//ChamberMaster//Event Calendar 2.0//EN
METHOD:PUBLISH
X-PUBLISHED-TTL:P3D
REFRESH-INTERVAL:P3D
CALSCALE:GREGORIAN
BEGIN:VEVENT
DTSTART:20250123T173000Z
DTEND:20250123T180000Z
X-MICROSOFT-CDO-ALLDAYEVENT:FALSE
SUMMARY:Ribbon Cutting for Adelante Wholesale Mortgage
DESCRIPTION:Join us for a ribbon cutting celebrating Adelante Wholesale Mortgage!\n\n\n\nDuring the home loan process\, Adelante Wholesale Mortgage's partnership goes above and beyond a simple transaction. As a trusted financial partner\, they are committed to ensuring that each loan decision is aligned with your short-term needs and long-term objectives.\n\n\n\nWEBSITE: Adelante Wholesale Mortgage (adelantewholesalemortgage.com)\n\nPHONE: (956) 533-0636\n\n\n\n*This ribbon cutting will take place at The Greater Boerne Chamber of Commerce.
X-ALT-DESC;FMTTYPE=text/html:<span style="font-family:arial\;"><span style="color:#000000\;">Join us for a ribbon cutting celebrating Adelante Wholesale Mortgage!<br />\n<br />\nDuring the home loan process\, Adelante Wholesale Mortgage&#39\;s partnership goes above and beyond a simple transaction. As a trusted financial partner\, they are committed to ensuring that each loan decision is aligned with your short-term needs and long-term objectives.<br />\n<br />\nWEBSITE:&nbsp\;</span></span><a href="https://www.adelantewholesalemortgage.com/?fbclid=IwY2xjawHAVhFleHRuA2FlbQIxMAABHVNXsEFHeTXcySH8hnkRD0C4OEUH2h8XzEMrKCtwqTSrBwjn64wZWR7G0w_aem_eHYXtSUPi3QJHUReZTb9Pg"><span style="color:#000000\;">Adelante Wholesale Mortgage (adelantewholesalemortgage.com)</span></a><br />\n<span style="font-family:arial\;"><span style="color:#000000\;">PHONE:&nbsp\;(956) 533-0636<br />\n<br />\n*This ribbon cutting will take place at The Greater Boerne Chamber of Commerce.</span></span>
LOCATION:The Greater Boerne Chamber of Commerce 121 S Main St Boerne\, TX 78006
UID:e.187.28982
SEQUENCE:3
DTSTAMP:20260423T052341Z
URL:https://business.boerne.org/events/details/ribbon-cutting-for-adelante-wholesale-mortgage-28982
END:VEVENT

END:VCALENDAR
