BEGIN:VCALENDAR
VERSION:2.0
PRODID:-//ChamberMaster//Event Calendar 2.0//EN
METHOD:PUBLISH
X-PUBLISHED-TTL:P3D
REFRESH-INTERVAL:P3D
CALSCALE:GREGORIAN
BEGIN:VEVENT
DTSTART:20190507T183000Z
DTEND:20190507T190000Z
X-MICROSOFT-CDO-ALLDAYEVENT:FALSE
SUMMARY:Ribbon Cutting for Access Storage
DESCRIPTION:Join us for a ribbon cutting ceremony celebrating Access Storage's expansion!
X-ALT-DESC;FMTTYPE=text/html:Join us for a ribbon cutting ceremony celebrating Access Storage&#39\;s expansion!
LOCATION:Access Storage 105 Shooting Club Road Boerne\, TX 78006
UID:e.187.16340
SEQUENCE:3
DTSTAMP:20260419T160548Z
URL:https://business.boerne.org/events/details/ribbon-cutting-for-access-storage-16340
END:VEVENT

END:VCALENDAR
