BEGIN:VCALENDAR
VERSION:2.0
PRODID:-//ChamberMaster//Event Calendar 2.0//EN
METHOD:PUBLISH
X-PUBLISHED-TTL:P3D
REFRESH-INTERVAL:P3D
CALSCALE:GREGORIAN
BEGIN:VEVENT
DTSTART:20230110T193000Z
DTEND:20230110T200000Z
X-MICROSOFT-CDO-ALLDAYEVENT:FALSE
SUMMARY:Ribbon Cutting for Abiding Hope Christian Counseling
DESCRIPTION:Join us for a ribbon cutting celebrating Abiding Hope Christian Counseling!\n\n\n\nThe mission of Abiding Hope is to provide quality counseling that is a blend of both professional clinical skill and biblical truth. They are Christian counselors\, not counselors who are Christians. With multiple services offered\, a range of different treatments and approaches used\, and the ability to work with individuals\, couples and families\, Abiding Hope can be there to help guide you. If you'd like to learn more or get in contact with their counselors\, click here to go to their website or give them a call at (830) 357-1420.
X-ALT-DESC;FMTTYPE=text/html:<font face="arial"><span style="font-size: 14px\;">Join us for a ribbon cutting celebrating Abiding Hope Christian Counseling!</span></font><br />\n<br />\n<font face="arial"><span style="font-size: 14px\;">The mission of Abiding Hope is to provide quality counseling that is a blend of both professional clinical skill and biblical truth. They are Christian counselors\, not counselors who are Christians. With multiple services offered\, a range of different treatments and approaches used\, and the ability to work with individuals\, couples and families\, Abiding Hope can be there to help guide you. If you&#39\;d like to learn more or get in contact with their counselors\, <a href="https://www.abidinghopecc.com/">click here</a> to go to their website or give them a call at (830) 357-1420.</span></font>
LOCATION:Abiding Hope Christian Counseling 1201 S Main St.\, Suite 119 Boerne\, TX. 78006
UID:e.187.20681
SEQUENCE:3
DTSTAMP:20260423T072246Z
URL:https://business.boerne.org/events/details/ribbon-cutting-for-abiding-hope-christian-counseling-20681
END:VEVENT

END:VCALENDAR
