BEGIN:VCALENDAR
VERSION:2.0
PRODID:-//ChamberMaster//Event Calendar 2.0//EN
METHOD:PUBLISH
X-PUBLISHED-TTL:P3D
REFRESH-INTERVAL:P3D
CALSCALE:GREGORIAN
BEGIN:VEVENT
DTSTART:20210513T183500Z
DTEND:20210513T190500Z
X-MICROSOFT-CDO-ALLDAYEVENT:FALSE
SUMMARY:Ribbon Cutting for A Signature Production
DESCRIPTION:Join us for a ribbon cutting celebrating A Signature Production's Grand Opening! \n\n\n\nA Signature Production provides event management services in the Texas Hill Country.
X-ALT-DESC;FMTTYPE=text/html:<p><span style="font-family:arial\;">Join us for a ribbon cutting celebrating A Signature Production&#39\;s Grand Opening!&nbsp\;<br />\n<br />\nA Signature Production provides event management services in the Texas Hill Country.&nbsp\;</span></p>\n
LOCATION:Boerne Chamber of Commerce 121 S. Main St. Boerne\, Texas 78006
UID:e.187.19071
SEQUENCE:3
DTSTAMP:20260424T175901Z
URL:https://business.boerne.org/events/details/ribbon-cutting-for-a-signature-production-19071
END:VEVENT

END:VCALENDAR
