BEGIN:VCALENDAR
VERSION:2.0
PRODID:-//ChamberMaster//Event Calendar 2.0//EN
METHOD:PUBLISH
X-PUBLISHED-TTL:P3D
REFRESH-INTERVAL:P3D
CALSCALE:GREGORIAN
BEGIN:VEVENT
DTSTART:20190502T204500Z
DTEND:20190502T230000Z
X-MICROSOFT-CDO-ALLDAYEVENT:FALSE
SUMMARY:Ribbon Cutting & Crawfish Boil for Cardinal Financial
DESCRIPTION:Join us for a ribbon cutting and crawfish boil celebrating Cardinal Financial's new location!\n\n\n\nRibbon Cutting at 3:45 pm\n\nCrawfish Boil at 4:00 pm\n\n\n\nBacked by their proprietary loan processing technology\, Octane\, Cardinal Financial consistently offers some of the lowest rates and fastest closings in the mortgage banking industry.
X-ALT-DESC;FMTTYPE=text/html:Join us for a ribbon cutting and crawfish boil celebrating Cardinal Financial&#39\;s new location!<br />\n<br />\n<strong>Ribbon Cutting at 3:45 pm<br />\nCrawfish Boil at 4:00 pm</strong><br />\n<br />\nBacked by their proprietary loan processing technology\, Octane\, Cardinal Financial consistently offers some of the lowest rates and fastest closings in the mortgage banking industry.
LOCATION:309 Water St. Boerne\, TX 78006
UID:e.187.16384
SEQUENCE:3
DTSTAMP:20260419T143624Z
URL:https://business.boerne.org/events/details/ribbon-cutting-crawfish-boil-for-cardinal-financial-16384
END:VEVENT

END:VCALENDAR
