BEGIN:VCALENDAR
VERSION:2.0
PRODID:-//ChamberMaster//Event Calendar 2.0//EN
METHOD:PUBLISH
X-PUBLISHED-TTL:P3D
REFRESH-INTERVAL:P3D
CALSCALE:GREGORIAN
BEGIN:VEVENT
DTSTART:20170504T183000Z
DTEND:20170504T190000Z
X-MICROSOFT-CDO-ALLDAYEVENT:FALSE
SUMMARY:Ribbon Cutting Ceremony The Oaks of Boerne
DESCRIPTION:Come join us for a Ribbon Cutting Ceremony for The Oaks at Boerne (link)
X-ALT-DESC;FMTTYPE=text/html:Come join us for a Ribbon Cutting Ceremony for The Oaks at Boerne (<a href="http://www.theoaksatboerne.com/">link</a>)
LOCATION:1244 FM 474 (map) Boerne\, TX 78006-7600 (210) 410-7300
UID:e.187.11625
SEQUENCE:3
DTSTAMP:20260423T041159Z
URL:https://business.boerne.org/events/details/ribbon-cutting-ceremony-the-oaks-of-boerne-11625
END:VEVENT

END:VCALENDAR
