BEGIN:VCALENDAR
VERSION:2.0
PRODID:-//ChamberMaster//Event Calendar 2.0//EN
METHOD:PUBLISH
X-PUBLISHED-TTL:P3D
REFRESH-INTERVAL:P3D
CALSCALE:GREGORIAN
BEGIN:VEVENT
DTSTART:20180614T183000Z
DTEND:20180614T190000Z
X-MICROSOFT-CDO-ALLDAYEVENT:FALSE
SUMMARY:Ribbon Cutting Ceremony Swim Lessons by Ms. Carol.
DESCRIPTION:Come join us for a Ribbon Cutting Ceremony for Swim Lessons by Ms. Carol.
X-ALT-DESC;FMTTYPE=text/html:Come join us for a Ribbon Cutting Ceremony for&nbsp\;Swim Lessons by Ms. Carol.
LOCATION:Swim Lessons by Ms. Carol.(map) 8 Coughran Rd. Boerne\, TX 78006
UID:e.187.13700
SEQUENCE:3
DTSTAMP:20260420T074459Z
URL:https://business.boerne.org/events/details/ribbon-cutting-ceremony-swim-lessons-by-ms-carol-13700
END:VEVENT

END:VCALENDAR
