BEGIN:VCALENDAR
VERSION:2.0
PRODID:-//ChamberMaster//Event Calendar 2.0//EN
METHOD:PUBLISH
X-PUBLISHED-TTL:P3D
REFRESH-INTERVAL:P3D
CALSCALE:GREGORIAN
BEGIN:VEVENT
DTSTART:20180821T163000Z
DTEND:20180821T170000Z
X-MICROSOFT-CDO-ALLDAYEVENT:FALSE
SUMMARY:Ribbon Cutting Ceremony SA Music Masters
DESCRIPTION:Join us for a Ribbon Cutting Ceremony for SA Music Masters
X-ALT-DESC;FMTTYPE=text/html:Join us for a Ribbon Cutting Ceremony for SA Music Masters&nbsp\;&nbsp\;&nbsp\;&nbsp\;&nbsp\;&nbsp\;&nbsp\;&nbsp\;
LOCATION:Kronkosky Place 17 Old San Antonio Rd. Boerne\, TX 78006
UID:e.187.14274
SEQUENCE:3
DTSTAMP:20260420T042535Z
URL:https://business.boerne.org/events/details/ribbon-cutting-ceremony-sa-music-masters-14274
END:VEVENT

END:VCALENDAR
