BEGIN:VCALENDAR
VERSION:2.0
PRODID:-//ChamberMaster//Event Calendar 2.0//EN
METHOD:PUBLISH
X-PUBLISHED-TTL:P3D
REFRESH-INTERVAL:P3D
CALSCALE:GREGORIAN
BEGIN:VEVENT
DTSTART:20181011T214500Z
DTEND:20181011T220000Z
X-MICROSOFT-CDO-ALLDAYEVENT:FALSE
SUMMARY:Ribbon Cutting Ceremony - Penguin Suits
DESCRIPTION:Join us for a ribbon cutting ceremony prior to the Boerne After 5 Networking Mixer sponsored by Penguin Suits!
X-ALT-DESC;FMTTYPE=text/html:Join us for a ribbon cutting ceremony prior to the Boerne After 5 Networking Mixer sponsored by Penguin Suits!
LOCATION:Penguin Suits 106 Austin Dr. S Boerne\, Texas 78006
UID:e.187.13919
SEQUENCE:3
DTSTAMP:20260420T013424Z
URL:https://business.boerne.org/events/details/ribbon-cutting-ceremony-penguin-suits-13919
END:VEVENT

END:VCALENDAR
