BEGIN:VCALENDAR
VERSION:2.0
PRODID:-//ChamberMaster//Event Calendar 2.0//EN
METHOD:PUBLISH
X-PUBLISHED-TTL:P3D
REFRESH-INTERVAL:P3D
CALSCALE:GREGORIAN
BEGIN:VEVENT
DTSTART:20171221T173000Z
DTEND:20171221T180000Z
X-MICROSOFT-CDO-ALLDAYEVENT:FALSE
SUMMARY:Ribbon Cutting Ceremony for Z's Wood Fired Pizza LLC
DESCRIPTION:Come join us for a Ribbon Cutting Ceremony for Z's Pizza. (Link)
X-ALT-DESC;FMTTYPE=text/html:Come join us for a Ribbon Cutting Ceremony for Z&#39\;s Pizza. (<a href="http://www.facebook.com/search/top/?q=z%27s%20wood%20fired%20pizza">Link</a>)
LOCATION:Z's Wood Fired Pizza LLC (map) 118 Old San Antonio Rd. Boerne\, TX 78006 (830) 331-1212
UID:e.187.12079
SEQUENCE:3
DTSTAMP:20260422T171458Z
URL:https://business.boerne.org/events/details/ribbon-cutting-ceremony-for-z-s-wood-fired-pizza-llc-12079
END:VEVENT

END:VCALENDAR
