BEGIN:VCALENDAR
VERSION:2.0
PRODID:-//ChamberMaster//Event Calendar 2.0//EN
METHOD:PUBLISH
X-PUBLISHED-TTL:P3D
REFRESH-INTERVAL:P3D
CALSCALE:GREGORIAN
BEGIN:VEVENT
DTSTART:20171107T173000Z
DTEND:20171107T180000Z
X-MICROSOFT-CDO-ALLDAYEVENT:FALSE
SUMMARY:Ribbon Cutting Ceremony for Vaughan's Funeral Home
DESCRIPTION:Come join us for a Ribbon Cutting Ceremony for Vaughan's Funeral Home. (link)\n\nNew Owner- William Holt.
X-ALT-DESC;FMTTYPE=text/html:Come join us for a Ribbon Cutting Ceremony for Vaughan&#39\;s Funeral Home. (<a href="http://www.vaughanfuneralhome.com/">link</a>)<br />\nNew Owner- William Holt.
LOCATION:Vaughan's Funeral Home (map) 319 E San Antonio Ave Boerne\, TX 78006
UID:e.187.11976
SEQUENCE:3
DTSTAMP:20260422T184533Z
URL:https://business.boerne.org/events/details/ribbon-cutting-ceremony-for-vaughan-s-funeral-home-11976
END:VEVENT

END:VCALENDAR
