BEGIN:VCALENDAR
VERSION:2.0
PRODID:-//ChamberMaster//Event Calendar 2.0//EN
METHOD:PUBLISH
X-PUBLISHED-TTL:P3D
REFRESH-INTERVAL:P3D
CALSCALE:GREGORIAN
BEGIN:VEVENT
DTSTART:20171014T170000Z
DTEND:20171014T173000Z
X-MICROSOFT-CDO-ALLDAYEVENT:FALSE
SUMMARY:Ribbon Cutting Ceremony for Trinity Adult & Pediatric Orthopedic Specialists and CryoFit
DESCRIPTION:Come join us to welcome two businesses to the Chamber Trinity Adult & Pediatric Orthopedic Specialists  (link) and CryoFit (link). Stay for food and festivities.\n\nPrizes will be given away.
X-ALT-DESC;FMTTYPE=text/html:Come join us to welcome two businesses to the Chamber Trinity Adult &amp\; Pediatric Orthopedic Specialists &nbsp\;(<a href="http://www.trinityorthosa.com/">link</a>) and CryoFit&nbsp\;(<a href="https://www.mycryofit.com/">link</a>). Stay for food and festivities.<br />\nPrizes will be given away. &nbsp\;
LOCATION:110 E. Bandera Rd (map) Boerne\, TX 78006
UID:e.187.11945
SEQUENCE:3
DTSTAMP:20260422T201206Z
URL:https://business.boerne.org/events/details/ribbon-cutting-ceremony-for-trinity-adult-pediatric-orthopedic-specialists-and-cryofit-11945
END:VEVENT

END:VCALENDAR
