BEGIN:VCALENDAR
VERSION:2.0
PRODID:-//ChamberMaster//Event Calendar 2.0//EN
METHOD:PUBLISH
X-PUBLISHED-TTL:P3D
REFRESH-INTERVAL:P3D
CALSCALE:GREGORIAN
BEGIN:VEVENT
DTSTART:20170608T183000Z
DTEND:20170608T190000Z
X-MICROSOFT-CDO-ALLDAYEVENT:FALSE
SUMMARY:Ribbon Cutting Ceremony for The Stuart House
DESCRIPTION:Come join us for a Ribbon Cutting Ceremony for The Stuart House(link)
X-ALT-DESC;FMTTYPE=text/html:Come join us for a Ribbon Cutting Ceremony for The Stuart House(<a href="http://info@thestuarthouse.net">link</a>)
LOCATION:The Stuart House (map) 50 Old Fredericksburg Rd. Boerne\, TX 78006
UID:e.187.11662
SEQUENCE:3
DTSTAMP:20260423T023008Z
URL:https://business.boerne.org/events/details/ribbon-cutting-ceremony-for-the-stuart-house-11662
END:VEVENT

END:VCALENDAR
