BEGIN:VCALENDAR
VERSION:2.0
PRODID:-//ChamberMaster//Event Calendar 2.0//EN
METHOD:PUBLISH
X-PUBLISHED-TTL:P3D
REFRESH-INTERVAL:P3D
CALSCALE:GREGORIAN
BEGIN:VEVENT
DTSTART:20180830T163000Z
DTEND:20180830T170000Z
X-MICROSOFT-CDO-ALLDAYEVENT:FALSE
SUMMARY:Ribbon Cutting Ceremony for The Pearl Antler
DESCRIPTION:Join us for a Ribbon Cutting Ceremony celebrating The Pearl Antler's 3rd Anniversary!
X-ALT-DESC;FMTTYPE=text/html:Join us for a Ribbon Cutting Ceremony celebrating The Pearl Antler&#39\;s 3rd Anniversary!
LOCATION:The Pearl Antler 312 River Road Boerne\, TX 78006
UID:e.187.14421
SEQUENCE:3
DTSTAMP:20260420T042816Z
URL:https://business.boerne.org/events/details/ribbon-cutting-ceremony-for-the-pearl-antler-14421
END:VEVENT

END:VCALENDAR
