BEGIN:VCALENDAR
VERSION:2.0
PRODID:-//ChamberMaster//Event Calendar 2.0//EN
METHOD:PUBLISH
X-PUBLISHED-TTL:P3D
REFRESH-INTERVAL:P3D
CALSCALE:GREGORIAN
BEGIN:VEVENT
DTSTART:20170309T173000Z
DTEND:20170309T180000Z
X-MICROSOFT-CDO-ALLDAYEVENT:FALSE
SUMMARY:Ribbon Cutting Ceremony for The Mangus Realty Group
DESCRIPTION:Come join us for the Ribbon Cutting Ceremony for The Mangus Realty Group. (link)
X-ALT-DESC;FMTTYPE=text/html:Come join us for the Ribbon Cutting Ceremony for The Mangus Realty Group. (<a href="http://www.lifeinboerne.net/">link</a>)
LOCATION:703 South Main St. (map) Boerne\, TX 78006
UID:e.187.11582
SEQUENCE:3
DTSTAMP:20260423T071539Z
URL:https://business.boerne.org/events/details/ribbon-cutting-ceremony-for-the-mangus-realty-group-11582
END:VEVENT

END:VCALENDAR
