BEGIN:VCALENDAR
VERSION:2.0
PRODID:-//ChamberMaster//Event Calendar 2.0//EN
METHOD:PUBLISH
X-PUBLISHED-TTL:P3D
REFRESH-INTERVAL:P3D
CALSCALE:GREGORIAN
BEGIN:VEVENT
DTSTART:20171116T193000Z
DTEND:20171116T200000Z
X-MICROSOFT-CDO-ALLDAYEVENT:FALSE
SUMMARY:Ribbon Cutting Ceremony for The Mangus Realty Group
DESCRIPTION:Come join us for a Ribbon Cutting Ceremony for The Mangus Realty Group. (link).
X-ALT-DESC;FMTTYPE=text/html:Come join us for a Ribbon Cutting Ceremony for The Mangus Realty Group. <a href="http://www.lifeinboerne.net/">(link</a>).
LOCATION:The Mangus Realty Group (map) 140 E. Bandera St. Boerne\, TX 78006
UID:e.187.12062
SEQUENCE:3
DTSTAMP:20260422T195443Z
URL:https://business.boerne.org/events/details/ribbon-cutting-ceremony-for-the-mangus-realty-group-11-16-2017-12062
END:VEVENT

END:VCALENDAR
