BEGIN:VCALENDAR
VERSION:2.0
PRODID:-//ChamberMaster//Event Calendar 2.0//EN
METHOD:PUBLISH
X-PUBLISHED-TTL:P3D
REFRESH-INTERVAL:P3D
CALSCALE:GREGORIAN
BEGIN:VEVENT
DTSTART:20180920T183000Z
DTEND:20180920T190000Z
X-MICROSOFT-CDO-ALLDAYEVENT:FALSE
SUMMARY:Ribbon Cutting Ceremony for the Hill Country Optimist Club
DESCRIPTION:Join us for Ribbon Cutting Ceremony for the Hill Country Optimist Club.
X-ALT-DESC;FMTTYPE=text/html:Join us for Ribbon Cutting Ceremony for the Hill Country Optimist Club.&nbsp\;&nbsp\;&nbsp\;&nbsp\;&nbsp\;&nbsp\;&nbsp\;&nbsp\;&nbsp\;&nbsp\;&nbsp\;&nbsp\;
LOCATION:Burdick Community Center 121 Old San Antonio Rd. Boerne\, TX 78006
UID:e.187.14881
SEQUENCE:3
DTSTAMP:20260420T030623Z
URL:https://business.boerne.org/events/details/ribbon-cutting-ceremony-for-the-hill-country-optimist-club-14881
END:VEVENT

END:VCALENDAR
