BEGIN:VCALENDAR
VERSION:2.0
PRODID:-//ChamberMaster//Event Calendar 2.0//EN
METHOD:PUBLISH
X-PUBLISHED-TTL:P3D
REFRESH-INTERVAL:P3D
CALSCALE:GREGORIAN
BEGIN:VEVENT
DTSTART:20170518T183000Z
DTEND:20170518T190000Z
X-MICROSOFT-CDO-ALLDAYEVENT:FALSE
SUMMARY:Ribbon Cutting Ceremony for the Genealogy Society of Kendall County
DESCRIPTION:Come join us for a Ribbon Cutting Ceremony for the Genealogy Society of Kendall County. (link)
X-ALT-DESC;FMTTYPE=text/html:Come join us for a Ribbon Cutting Ceremony for the Genealogy Society of Kendall County. (<a href="https://gskctx.org/index.php">link</a>)
LOCATION:Genealogical Society of Kendall County 114 E. Blanco St. Boerne\, TX 78006
UID:e.187.11652
SEQUENCE:3
DTSTAMP:20260423T041225Z
URL:https://business.boerne.org/events/details/ribbon-cutting-ceremony-for-the-genealogy-society-of-kendall-county-11652
END:VEVENT

END:VCALENDAR
