BEGIN:VCALENDAR
VERSION:2.0
PRODID:-//ChamberMaster//Event Calendar 2.0//EN
METHOD:PUBLISH
X-PUBLISHED-TTL:P3D
REFRESH-INTERVAL:P3D
CALSCALE:GREGORIAN
BEGIN:VEVENT
DTSTART:20180417T163000Z
DTEND:20180417T170000Z
X-MICROSOFT-CDO-ALLDAYEVENT:FALSE
SUMMARY:Ribbon Cutting Ceremony for The Casitas at Madrona Ranch
DESCRIPTION:Come join us for a Ribbon Cutting Ceremony for Casitas at Madrona Ranch.  (link)
X-ALT-DESC;FMTTYPE=text/html:Come join us for a Ribbon Cutting Ceremony for Casitas at Madrona Ranch.&nbsp\; (<a href="http://casitasatmadronaranch.com/">link</a>)
LOCATION:Casitas at Madrona Ranch (map) 282 Jewell Rd. Pipe Creek\, TX 78063 (210) 488-7793
UID:e.187.13643
SEQUENCE:3
DTSTAMP:20260420T111252Z
URL:https://business.boerne.org/events/details/ribbon-cutting-ceremony-for-the-casitas-at-madrona-ranch-13643
END:VEVENT

END:VCALENDAR
