BEGIN:VCALENDAR
VERSION:2.0
PRODID:-//ChamberMaster//Event Calendar 2.0//EN
METHOD:PUBLISH
X-PUBLISHED-TTL:P3D
REFRESH-INTERVAL:P3D
CALSCALE:GREGORIAN
BEGIN:VEVENT
DTSTART:20170825T150000Z
DTEND:20170825T153000Z
X-MICROSOFT-CDO-ALLDAYEVENT:FALSE
SUMMARY:Ribbon Cutting Ceremony for the Boerne Hill Country Family YMCA.
DESCRIPTION:Come join us for Grand Opening Ribbon Cutting  Ceremony for  the Boerne Hill Country Family YMCA. (link)
X-ALT-DESC;FMTTYPE=text/html:Come join us for Grand Opening Ribbon Cutting &nbsp\;Ceremony for &nbsp\;the Boerne Hill Country Family YMCA. (<a href="http://www.ymcasatx.org/boerne">link</a>)&nbsp\;
LOCATION:Boerne Hill Country Family YMCA (map) 820 Adler Road. Boerne\, TX 78006
UID:e.187.11955
SEQUENCE:3
DTSTAMP:20260422T232017Z
URL:https://business.boerne.org/events/details/ribbon-cutting-ceremony-for-the-boerne-hill-country-family-ymca-11955
END:VEVENT

END:VCALENDAR
