BEGIN:VCALENDAR
VERSION:2.0
PRODID:-//ChamberMaster//Event Calendar 2.0//EN
METHOD:PUBLISH
X-PUBLISHED-TTL:P3D
REFRESH-INTERVAL:P3D
CALSCALE:GREGORIAN
BEGIN:VEVENT
DTSTART:20180510T183000Z
DTEND:20180510T190000Z
X-MICROSOFT-CDO-ALLDAYEVENT:FALSE
SUMMARY:Ribbon Cutting Ceremony for The Abbey at Dominion Crossing
DESCRIPTION:Come join us for a Ribbon Cutting Ceremony for The Abbey at Dominion Crossing. (link)
X-ALT-DESC;FMTTYPE=text/html:Come join us for a Ribbon Cutting Ceremony for The Abbey at Dominion Crossing. (<a href="https://www.abbeyresidential.com/apartments/tx/san-antonio/dominion-crossing/">link</a>)
LOCATION:The Abbey at Dominion Crossing (map) 21626 Stonewall Pkwy San Antonio\, TX 78256 (210) 775-1714 (work)
UID:e.187.13641
SEQUENCE:3
DTSTAMP:20260420T093722Z
URL:https://business.boerne.org/events/details/ribbon-cutting-ceremony-for-the-abbey-at-dominion-crossing-13641
END:VEVENT

END:VCALENDAR
