BEGIN:VCALENDAR
VERSION:2.0
PRODID:-//ChamberMaster//Event Calendar 2.0//EN
METHOD:PUBLISH
X-PUBLISHED-TTL:P3D
REFRESH-INTERVAL:P3D
CALSCALE:GREGORIAN
BEGIN:VEVENT
DTSTART:20180828T163000Z
DTEND:20180828T170000Z
X-MICROSOFT-CDO-ALLDAYEVENT:FALSE
SUMMARY:Ribbon Cutting Ceremony for St. Helena's Episcopal New Primary School Campus
DESCRIPTION:Join us for a Ribbon Cutting Ceremony for St. Helena's Episcopal Church New Primary School Campus
X-ALT-DESC;FMTTYPE=text/html:Join us for a Ribbon Cutting Ceremony for&nbsp\;<span style="color: rgb(84\, 84\, 84)\; font-family: arial\, sans-serif\; font-size: small\;">St. Helena&#39\;s Episcopal Church New Primary School Campus</span>&nbsp\;&nbsp\;&nbsp\;&nbsp\;
LOCATION:St. Helena's Church & School Early Enrichment Program (SHEEP) 122 Rock Street Boerne\, TX 78006
UID:e.187.14832
SEQUENCE:3
DTSTAMP:20260420T060306Z
URL:https://business.boerne.org/events/details/ribbon-cutting-ceremony-for-st-helena-s-episcopal-new-primary-school-campus-14832
END:VEVENT

END:VCALENDAR
