BEGIN:VCALENDAR
VERSION:2.0
PRODID:-//ChamberMaster//Event Calendar 2.0//EN
METHOD:PUBLISH
X-PUBLISHED-TTL:P3D
REFRESH-INTERVAL:P3D
CALSCALE:GREGORIAN
BEGIN:VEVENT
DTSTART:20180731T163000Z
DTEND:20180731T170000Z
X-MICROSOFT-CDO-ALLDAYEVENT:FALSE
SUMMARY:Ribbon Cutting Ceremony for Sonora Bank
DESCRIPTION:Come join us for a Ribbon Cutting Ceremony for Sonora Bank.
X-ALT-DESC;FMTTYPE=text/html:Come join us for a Ribbon Cutting Ceremony for Sonora Bank.&nbsp\;
LOCATION:Sonora Bank 1570 River Road Boerne\, TX 78006
UID:e.187.13704
SEQUENCE:3
DTSTAMP:20260420T060714Z
URL:https://business.boerne.org/events/details/ribbon-cutting-ceremony-for-sonora-bank-13704
END:VEVENT

END:VCALENDAR
