BEGIN:VCALENDAR
VERSION:2.0
PRODID:-//ChamberMaster//Event Calendar 2.0//EN
METHOD:PUBLISH
X-PUBLISHED-TTL:P3D
REFRESH-INTERVAL:P3D
CALSCALE:GREGORIAN
BEGIN:VEVENT
DTSTART:20180614T163000Z
DTEND:20180614T170000Z
X-MICROSOFT-CDO-ALLDAYEVENT:FALSE
SUMMARY:Ribbon Cutting Ceremony for Saint Tryphon Farm & Vineyards
DESCRIPTION:Come join us for a Ribbon Cutting Ceremony for Saint Tryphon Farm & Vineyards.
X-ALT-DESC;FMTTYPE=text/html:Come join us for a Ribbon Cutting Ceremony for&nbsp\;Saint Tryphon Farm &amp\; Vineyards.&nbsp\;
LOCATION:Saint Tryphon Farm & Vineyards. 24 Wasp Creek Rd. Boerne\, TX 78006
UID:e.187.13703
SEQUENCE:3
DTSTAMP:20260420T074552Z
URL:https://business.boerne.org/events/details/ribbon-cutting-ceremony-for-saint-tryphon-farm-vineyards-13703
END:VEVENT

END:VCALENDAR
