BEGIN:VCALENDAR
VERSION:2.0
PRODID:-//ChamberMaster//Event Calendar 2.0//EN
METHOD:PUBLISH
X-PUBLISHED-TTL:P3D
REFRESH-INTERVAL:P3D
CALSCALE:GREGORIAN
BEGIN:VEVENT
DTSTART:20180517T163000Z
DTEND:20180517T170000Z
X-MICROSOFT-CDO-ALLDAYEVENT:FALSE
SUMMARY:Ribbon Cutting Ceremony for Rockin' B Ranch
DESCRIPTION:Come join us for a Ribbon Cutting Ceremony for Rockin' B Ranch.
X-ALT-DESC;FMTTYPE=text/html:Come join us for a Ribbon Cutting Ceremony for Rockin&#39\; B Ranch.&nbsp\;
LOCATION:Janice Riordan Owner Rockin' B Ranch 776 Mountain View Lane Pipe Creek\, TX 78063 (210) 421-1417 (work)
UID:e.187.13691
SEQUENCE:3
DTSTAMP:20260422T090039Z
URL:https://business.boerne.org/events/details/ribbon-cutting-ceremony-for-rockin-b-ranch-13691
END:VEVENT

END:VCALENDAR
