BEGIN:VCALENDAR
VERSION:2.0
PRODID:-//ChamberMaster//Event Calendar 2.0//EN
METHOD:PUBLISH
X-PUBLISHED-TTL:P3D
REFRESH-INTERVAL:P3D
CALSCALE:GREGORIAN
BEGIN:VEVENT
DTSTART:20180911T163000Z
DTEND:20180911T170000Z
X-MICROSOFT-CDO-ALLDAYEVENT:FALSE
SUMMARY:Ribbon Cutting Ceremony for Roberts Hi-Tech Home Inspections
DESCRIPTION:Join us for a Ribbon Cutting Ceremony for Roberts Hi-Tech Home Inspections.
X-ALT-DESC;FMTTYPE=text/html:Join us for a Ribbon Cutting Ceremony for Roberts Hi-Tech Home Inspections.
LOCATION:Rainbow Center at Kronkosky Place on the Back Patio 17 Old San Antonio Road Boerne\, TX 78006
UID:e.187.14856
SEQUENCE:3
DTSTAMP:20260420T042816Z
URL:https://business.boerne.org/events/details/ribbon-cutting-ceremony-for-roberts-hi-tech-home-inspections-14856
END:VEVENT

END:VCALENDAR
