BEGIN:VCALENDAR
VERSION:2.0
PRODID:-//ChamberMaster//Event Calendar 2.0//EN
METHOD:PUBLISH
X-PUBLISHED-TTL:P3D
REFRESH-INTERVAL:P3D
CALSCALE:GREGORIAN
BEGIN:VEVENT
DTSTART:20170323T183000Z
DTEND:20170323T190000Z
X-MICROSOFT-CDO-ALLDAYEVENT:FALSE
SUMMARY:Ribbon Cutting Ceremony for Rashid\, Rice\, Flynn & Reilly Eye Associates
DESCRIPTION:Come join us for a Ribbon Cutting Ceremony for Rashid\, Rice\, Flynn & Reilly Eye Associates. (link)
X-ALT-DESC;FMTTYPE=text/html:Come join us for a Ribbon Cutting Ceremony for Rashid\, Rice\, Flynn &amp\; Reilly Eye Associates. (<a href="http://rashidriceflynn.com/">link</a>)
LOCATION:113 Falls Court Ste 100 (map) Boerne\, TX 78006 (830) 248-1222
UID:e.187.11578
SEQUENCE:3
DTSTAMP:20260423T085307Z
URL:https://business.boerne.org/events/details/ribbon-cutting-ceremony-for-rashid-rice-flynn-reilly-eye-associates-11578
END:VEVENT

END:VCALENDAR
