BEGIN:VCALENDAR
VERSION:2.0
PRODID:-//ChamberMaster//Event Calendar 2.0//EN
METHOD:PUBLISH
X-PUBLISHED-TTL:P3D
REFRESH-INTERVAL:P3D
CALSCALE:GREGORIAN
BEGIN:VEVENT
DTSTART:20170801T163000Z
DTEND:20170801T170000Z
X-MICROSOFT-CDO-ALLDAYEVENT:FALSE
SUMMARY:Ribbon Cutting Ceremony for Prime Capital Investment Advisors\, LLC
DESCRIPTION:Come join us for a Ribbon Cutting Ceremony for Prime Capital Investment Advisors\, LLC. (link)
X-ALT-DESC;FMTTYPE=text/html:Come join us for a Ribbon Cutting Ceremony for Prime Capital Investment Advisors\, LLC. (<a href="https://primecap-ia.com/">link</a>)
LOCATION:Prime Capital Investment Advisors\, LLC (map) 616 E. Blanco Rd\, Ste. 201-A Boerne\, TX 78006
UID:e.187.11725
SEQUENCE:3
DTSTAMP:20260422T231855Z
URL:https://business.boerne.org/events/details/ribbon-cutting-ceremony-for-prime-capital-investment-advisors-llc-11725
END:VEVENT

END:VCALENDAR
