BEGIN:VCALENDAR
VERSION:2.0
PRODID:-//ChamberMaster//Event Calendar 2.0//EN
METHOD:PUBLISH
X-PUBLISHED-TTL:P3D
REFRESH-INTERVAL:P3D
CALSCALE:GREGORIAN
BEGIN:VEVENT
DTSTART:20181002T213000Z
DTEND:20181002T220000Z
X-MICROSOFT-CDO-ALLDAYEVENT:FALSE
SUMMARY:Ribbon Cutting Ceremony for Phyllis Browning Company
DESCRIPTION:Please join us for a Ribbon Cutting Ceremony for Phyllis Browning Company
X-ALT-DESC;FMTTYPE=text/html:Please join us for a Ribbon Cutting Ceremony for Phyllis Browning Company&nbsp\;&nbsp\;&nbsp\;&nbsp\;
LOCATION:Phyllis Browning Company 711 S. Main St. Boerne\, TX 78006
UID:e.187.14275
SEQUENCE:3
DTSTAMP:20260420T013658Z
URL:https://business.boerne.org/events/details/ribbon-cutting-ceremony-for-phyllis-browning-company-14275
END:VEVENT

END:VCALENDAR
