BEGIN:VCALENDAR
VERSION:2.0
PRODID:-//ChamberMaster//Event Calendar 2.0//EN
METHOD:PUBLISH
X-PUBLISHED-TTL:P3D
REFRESH-INTERVAL:P3D
CALSCALE:GREGORIAN
BEGIN:VEVENT
DTSTART:20171115T173000Z
DTEND:20171115T180000Z
X-MICROSOFT-CDO-ALLDAYEVENT:FALSE
SUMMARY:Ribbon Cutting Ceremony for Perry Homes The Ranches at Creekside
DESCRIPTION:Come join us for a Ribbon Cutting Ceremony for Perry Homes the Ranches at Creekside. (link)
X-ALT-DESC;FMTTYPE=text/html:Come join us for a Ribbon Cutting Ceremony for<strong> Perry Homes </strong>the Ranches at Creekside. (<a href="https://www.perryhomes.com/Texas/New-Homes-San-Antonio/The-Ranches-at-Creekside">link</a>)
LOCATION:Perry Model (map) 111 Coleto Creek Boerne\, TX 78006
UID:e.187.12022
SEQUENCE:3
DTSTAMP:20260422T195525Z
URL:https://business.boerne.org/events/details/ribbon-cutting-ceremony-for-perry-homes-the-ranches-at-creekside-12022
END:VEVENT

END:VCALENDAR
