BEGIN:VCALENDAR
VERSION:2.0
PRODID:-//ChamberMaster//Event Calendar 2.0//EN
METHOD:PUBLISH
X-PUBLISHED-TTL:P3D
REFRESH-INTERVAL:P3D
CALSCALE:GREGORIAN
BEGIN:VEVENT
DTSTART:20180405T163000Z
DTEND:20180405T170000Z
X-MICROSOFT-CDO-ALLDAYEVENT:FALSE
SUMMARY:Ribbon Cutting Ceremony for My Urgent Clinic Boerne
DESCRIPTION:Come join us for a Ribbon Cutting Celebration for My Urgent Clinic- Boerne (link)
X-ALT-DESC;FMTTYPE=text/html:Come join us for a Ribbon Cutting Celebration for My Urgent Clinic- Boerne (<a href="http://www.myemergencyroom.com/">link</a>)&nbsp\;
LOCATION:My Urgent Clinic Boerne (map) 910 River Road Boerne\, TX 78006
UID:e.187.13490
SEQUENCE:3
DTSTAMP:20260420T111441Z
URL:https://business.boerne.org/events/details/ribbon-cutting-ceremony-for-my-urgent-clinic-boerne-13490
END:VEVENT

END:VCALENDAR
